BEGIN:VCALENDAR
VERSION:2.0
PRODID:-// - ECPv6.15.20//NONSGML v1.0//EN
CALSCALE:GREGORIAN
METHOD:PUBLISH
X-ORIGINAL-URL:https://www.broadviewseattle.org
X-WR-CALDESC:Events for 
REFRESH-INTERVAL;VALUE=DURATION:PT1H
X-Robots-Tag:noindex
X-PUBLISHED-TTL:PT1H
BEGIN:VTIMEZONE
TZID:America/Denver
BEGIN:DAYLIGHT
TZOFFSETFROM:-0700
TZOFFSETTO:-0600
TZNAME:MDT
DTSTART:20160313T090000
END:DAYLIGHT
BEGIN:STANDARD
TZOFFSETFROM:-0600
TZOFFSETTO:-0700
TZNAME:MST
DTSTART:20161106T080000
END:STANDARD
BEGIN:DAYLIGHT
TZOFFSETFROM:-0700
TZOFFSETTO:-0600
TZNAME:MDT
DTSTART:20170312T090000
END:DAYLIGHT
BEGIN:STANDARD
TZOFFSETFROM:-0600
TZOFFSETTO:-0700
TZNAME:MST
DTSTART:20171105T080000
END:STANDARD
BEGIN:DAYLIGHT
TZOFFSETFROM:-0700
TZOFFSETTO:-0600
TZNAME:MDT
DTSTART:20180311T090000
END:DAYLIGHT
BEGIN:STANDARD
TZOFFSETFROM:-0600
TZOFFSETTO:-0700
TZNAME:MST
DTSTART:20181104T080000
END:STANDARD
BEGIN:DAYLIGHT
TZOFFSETFROM:-0700
TZOFFSETTO:-0600
TZNAME:MDT
DTSTART:20190310T090000
END:DAYLIGHT
BEGIN:STANDARD
TZOFFSETFROM:-0600
TZOFFSETTO:-0700
TZNAME:MST
DTSTART:20191103T080000
END:STANDARD
END:VTIMEZONE
BEGIN:VEVENT
DTSTART;TZID=America/Denver:20181025T123000
DTEND;TZID=America/Denver:20181025T133000
DTSTAMP:20260423T142032
CREATED:20180916T193508Z
LAST-MODIFIED:20181022T014038Z
UID:8219-1540470600-1540474200@www.broadviewseattle.org
SUMMARY:Broadview Historical Society
DESCRIPTION:
URL:https://www.broadviewseattle.org/event/broadview-historical-society-2/
END:VEVENT
BEGIN:VEVENT
DTSTART;TZID=America/Denver:20180915T100000
DTEND;TZID=America/Denver:20180915T140000
DTSTAMP:20260423T142032
CREATED:20180822T212828Z
LAST-MODIFIED:20180822T212828Z
UID:8184-1537005600-1537020000@www.broadviewseattle.org
SUMMARY:Festival of Fruit
DESCRIPTION:
URL:https://www.broadviewseattle.org/event/festival-of-fruit-2/
END:VEVENT
BEGIN:VEVENT
DTSTART;TZID=America/Denver:20180825T080000
DTEND;TZID=America/Denver:20180825T150000
DTSTAMP:20260423T142032
CREATED:20180809T153800Z
LAST-MODIFIED:20180809T153800Z
UID:8154-1535184000-1535209200@www.broadviewseattle.org
SUMMARY:Foss Home Farmers' Market
DESCRIPTION:
URL:https://www.broadviewseattle.org/event/foss-home-farmers-market/
END:VEVENT
BEGIN:VEVENT
DTSTART;TZID=America/Denver:20180818T100000
DTEND;TZID=America/Denver:20180818T150000
DTSTAMP:20260423T142032
CREATED:20180811T153603Z
LAST-MODIFIED:20180811T153603Z
UID:8162-1534586400-1534604400@www.broadviewseattle.org
SUMMARY:Food Bank Fundraiser
DESCRIPTION:
URL:https://www.broadviewseattle.org/event/food-bank-fundraiser/
END:VEVENT
BEGIN:VEVENT
DTSTART;TZID=America/Denver:20180621T120000
DTEND;TZID=America/Denver:20180621T140000
DTSTAMP:20260423T142032
CREATED:20180414T174239Z
LAST-MODIFIED:20180617T221345Z
UID:8072-1529582400-1529589600@www.broadviewseattle.org
SUMMARY:Broadview Historical Society
DESCRIPTION:
URL:https://www.broadviewseattle.org/event/http-www-broadviewseattle-org-2018-06-17-broadview-historical-society-meeting-june-21/
END:VEVENT
BEGIN:VEVENT
DTSTART;TZID=America/Denver:20180512T193000
DTEND;TZID=America/Denver:20180512T200000
DTSTAMP:20260423T142032
CREATED:20180430T195655Z
LAST-MODIFIED:20180430T195655Z
UID:8094-1526153400-1526155200@www.broadviewseattle.org
SUMMARY:Final Carkeek salmon release
DESCRIPTION:Carkeek Park\, 7:45 PM
URL:https://www.broadviewseattle.org/event/final-carkeek-salmon-release/
END:VEVENT
BEGIN:VEVENT
DTSTART;TZID=America/Denver:20180428T090000
DTEND;TZID=America/Denver:20180428T120000
DTSTAMP:20260423T142032
CREATED:20180415T213219Z
LAST-MODIFIED:20180415T213219Z
UID:8085-1524906000-1524916800@www.broadviewseattle.org
SUMMARY:Emergency Field Exercise
DESCRIPTION:
URL:https://www.broadviewseattle.org/event/emergency-field-exercise/
END:VEVENT
BEGIN:VEVENT
DTSTART;TZID=America/Denver:20180215T113000
DTEND;TZID=America/Denver:20180215T130000
DTSTAMP:20260423T142032
CREATED:20180211T174528Z
LAST-MODIFIED:20180212T022215Z
UID:7970-1518694200-1518699600@www.broadviewseattle.org
SUMMARY:Broadview Historical Society
DESCRIPTION:Meet at Broadview Library \nSpeaker Marilyn Morgan
URL:https://www.broadviewseattle.org/event/broadview-historical-society/
LOCATION:Broadview Library\, 12755 Greenwood Ave. N\, Seattle\, WA\, 98133\, United States
END:VEVENT
BEGIN:VEVENT
DTSTART;TZID=America/Denver:20171108T090000
DTEND;TZID=America/Denver:20171108T100000
DTSTAMP:20260423T142032
CREATED:20171005T155230Z
LAST-MODIFIED:20171005T155230Z
UID:7850-1510131600-1510135200@www.broadviewseattle.org
SUMMARY:Preschool and Kindergarten Open House at Christ the King
DESCRIPTION:Christ the King is hosting a preschool and Kindergarten open house for all families interested in learning more about the academic programs at Christ the King. The open house in Wednesday\, November 8th from 9am – 10am. Class will be in session\, so this is a great time to see our teachers and students in action. Christ the King currently offers two preschool classes\, but will be expanding next year. \nEarly Education Center 3: – for children 30 months to 3 years old. Takes place 3 days/week from 8:30am – 12:30pm \nEarly Education Center 4: – for children 3 to 4 years old. Takes place 4 days/week from 8:30am – 12:30pm \nEarly Education Center 5: – for children 4 to 6 years old. Takes place 5 days/week from 8:30am – 12:30pm \nChrist the King also offers Before and After School Care/Preschool Enrichment for preschool families needing child care. \nThe Christ the King Kindergarten program is a full-day program that includes an excellent core curriculum including science education\, technology\, Spanish\, visual arts\, music\, and physical education. \nFor more details or to schedule a private tour\, please contact The Development Office at (206) 859-5109 or cksdev@ckseattle.org. \nChrist the King is located at 415 North 117th Street\, Seattle\, WA 98133 \nwww.ckseattle.org
URL:https://www.broadviewseattle.org/event/preschool-and-kindergarten-open-house-at-christ-the-king/
ORGANIZER;CN="Christ the King Catholic School":MAILTO:cksdev@ckseattle.org
END:VEVENT
BEGIN:VEVENT
DTSTART;TZID=America/Denver:20170922T160000
DTEND;TZID=America/Denver:20170922T220000
DTSTAMP:20260423T142032
CREATED:20170918T010604Z
LAST-MODIFIED:20170918T010604Z
UID:7836-1506096000-1506117600@www.broadviewseattle.org
SUMMARY:Bite of Broadview
DESCRIPTION:http://www.biteofbroadview.com/
URL:https://www.broadviewseattle.org/event/bite-of-broadview/
END:VEVENT
BEGIN:VEVENT
DTSTART;TZID=America/Denver:20170916T100000
DTEND;TZID=America/Denver:20170916T140000
DTSTAMP:20260423T142032
CREATED:20170902T014648Z
LAST-MODIFIED:20170902T014648Z
UID:7809-1505556000-1505570400@www.broadviewseattle.org
SUMMARY:Festival of Fruit
DESCRIPTION:
URL:https://www.broadviewseattle.org/event/festival-of-fruit/
END:VEVENT
BEGIN:VEVENT
DTSTART;TZID=America/Denver:20170916T090000
DTEND;TZID=America/Denver:20170916T120000
DTSTAMP:20260423T142032
CREATED:20170715T221928Z
LAST-MODIFIED:20170820T191608Z
UID:7749-1505552400-1505563200@www.broadviewseattle.org
SUMMARY:Carkeek STARS
DESCRIPTION:Carkeek STARS September 15\, 2018 9 AM – Noon \n \n 
URL:https://www.broadviewseattle.org/event/carkeek-stars-2/
END:VEVENT
BEGIN:VEVENT
DTSTART;TZID=America/Denver:20170826T100000
DTEND;TZID=America/Denver:20170826T150000
DTSTAMP:20260423T142032
CREATED:20170820T191339Z
LAST-MODIFIED:20170820T191339Z
UID:7783-1503741600-1503759600@www.broadviewseattle.org
SUMMARY:Foss Farmers Market
DESCRIPTION:Foss Home and Village  Farmers Market August 26
URL:https://www.broadviewseattle.org/event/foss-farmers-market/
END:VEVENT
BEGIN:VEVENT
DTSTART;TZID=America/Denver:20170824T080000
DTEND;TZID=America/Denver:20170824T170000
DTSTAMP:20260423T142032
CREATED:20170825T051942Z
LAST-MODIFIED:20170825T051942Z
UID:7797-1503561600-1503594000@www.broadviewseattle.org
SUMMARY:National Parks & Federal Recreational Lands Senior Pass
DESCRIPTION:Broadview Senior Neighbors. 3 days left to get your $10.00 plus $10 handling fee lifetime pass. All eligible Senior pass orders placed online before 11:59 pm eastern daylight time on August 27 or mail orders postmarked on or before August 27 will be processed at the $10 price.  Lifetime Senior pass orders placed online after 11:59 pm on August 27 eastern daylight time or mail orders postmarked after August 27 will be processed at the $80 price.  It only took me 5 minutes online to process. Link:https://store.usgs.gov/senior-pass \n 
URL:https://www.broadviewseattle.org/event/national-parks-federal-recreational-lands-senior-pass/
END:VEVENT
BEGIN:VEVENT
DTSTART;TZID=America/Denver:20170729T090000
DTEND;TZID=America/Denver:20170729T120000
DTSTAMP:20260423T142032
CREATED:20170719T192753Z
LAST-MODIFIED:20170719T192753Z
UID:7761-1501318800-1501329600@www.broadviewseattle.org
SUMMARY:Disaster Practice Drill
DESCRIPTION:Luther Memorial Church \n13047 Greenwood Ave. N \nPractice for a Disaster at Broadview Hub July 29th
URL:https://www.broadviewseattle.org/event/disaster-practice-drill/
END:VEVENT
BEGIN:VEVENT
DTSTART;TZID=America/Denver:20170715T090000
DTEND;TZID=America/Denver:20170715T120000
DTSTAMP:20260423T142032
CREATED:20170609T215210Z
LAST-MODIFIED:20170618T214508Z
UID:7628-1500109200-1500120000@www.broadviewseattle.org
SUMMARY:Carkeek STARS
DESCRIPTION:Carkeek STARS September 15\, 2018 9 AM – Noon
URL:https://www.broadviewseattle.org/event/carkeek-stars/
END:VEVENT
BEGIN:VEVENT
DTSTART;TZID=America/Denver:20170620T190000
DTEND;TZID=America/Denver:20170620T190000
DTSTAMP:20260423T142032
CREATED:20170609T230658Z
LAST-MODIFIED:20170614T163040Z
UID:7633-1497985200-1497985200@www.broadviewseattle.org
SUMMARY:Broadview - Bitter Lake Community Council
DESCRIPTION:Debora Juarez to Speak at Next Broadview – Bitter Lake Community Council Meeting
URL:https://www.broadviewseattle.org/event/broadview-bitter-lake-community-council/
LOCATION:Luther Memorial Church\, 13047 Greenwood Ave. N\, WA\, United States
END:VEVENT
END:VCALENDAR